BEGIN:VCALENDAR
PRODID:-//MME-Internettechnik//WebPresenter//DE
VERSION:1.0
BEGIN:VEVENT
DTSTART:20260619T053000Z
DTEND:20260619T070500Z
DESCRIPTION;ENCODING=QUOTED-PRINTABLE:Müssen=0D=0A=0D=0ARadfahrtraining Klasse 4B=0D=0A=0D=0A
SUMMARY;ENCODING=QUOTED-PRINTABLE:Radfahrtraining Klasse 4B
STATUS:NEEDS ACTION
END:VEVENT
END:VCALENDAR
