BEGIN:VCALENDAR
PRODID:-//MME-Internettechnik//WebPresenter//DE
VERSION:1.0
BEGIN:VEVENT
DTSTART:20260702T030000Z
DTEND:20260702T030000Z
DESCRIPTION;ENCODING=QUOTED-PRINTABLE:Hörste=0D=0A=0D=0AKiTa-Schnuppertag und 1. Elternabend=0D=0A=0D=0A
SUMMARY;ENCODING=QUOTED-PRINTABLE:KiTa-Schnuppertag und 1. Elternabend
STATUS:NEEDS ACTION
END:VEVENT
END:VCALENDAR
