BEGIN:VCALENDAR
PRODID:-//MME-Internettechnik//WebPresenter//DE
VERSION:1.0
BEGIN:VEVENT
DTSTART:20260709T063000Z
DTEND:20260709T091500Z
DESCRIPTION;ENCODING=QUOTED-PRINTABLE:Hörste=0D=0A=0D=0ARadfahrtraining und Lernzielkontrolle Klasse 4A=0D=0A=0D=0A
SUMMARY;ENCODING=QUOTED-PRINTABLE:Radfahrtraining und Lernzielkontrolle Klasse 4A
STATUS:NEEDS ACTION
END:VEVENT
END:VCALENDAR
