BEGIN:VCALENDAR
PRODID:-//MME-Internettechnik//WebPresenter//DE
VERSION:1.0
BEGIN:VEVENT
DTSTART:20260715T030000Z
DTEND:20260715T030000Z
DESCRIPTION;ENCODING=QUOTED-PRINTABLE:im Schulvormittag=0D=0A=0D=0AHö und Mü=0D=0A=0D=0AZeugnisausgabe Jahrgang 1 - 3 / Unterricht nach Plan=0D=0A=0D=0A
SUMMARY;ENCODING=QUOTED-PRINTABLE:Zeugnisausgabe Jahrgang 1 - 3 / Unterricht nach Plan
STATUS:NEEDS ACTION
END:VEVENT
END:VCALENDAR
