BEGIN:VCALENDAR
PRODID:-//MME-Internettechnik//WebPresenter//DE
VERSION:1.0
BEGIN:VEVENT
DTSTART:20260717T030000Z
DTEND:20260717T030000Z
DESCRIPTION;ENCODING=QUOTED-PRINTABLE:9:15 Uhr=0D=0A=0D=0AMüssen=0D=0A=0D=0ASchuljahres-Abschlussfeier=0D=0A=0D=0A
SUMMARY;ENCODING=QUOTED-PRINTABLE:Schuljahres-Abschlussfeier
STATUS:NEEDS ACTION
END:VEVENT
END:VCALENDAR
